BEGIN:VCALENDAR
VERSION:2.0
PRODID:icalendar-ruby
CALSCALE:GREGORIAN
METHOD:PUBLISH
BEGIN:VEVENT
DTSTAMP:20260422T225057Z
UID:38-776996@themountain.org
DTSTART:20261013T230000Z
DTEND:20261014T020000Z
CLASS:PUBLIC
CREATED:20260422T182206
DESCRIPTION:Tuesdays are our ongoing "main" gathering! (What? Not Sundays? 
 - Nope... We've found that Holy Spirit comes regardless of the day!) Peopl
 e come from literally all over New England... many drive 1\, 2\, and even 
 4 and 5 hours... some of them drive weekly for an hour or two! People from
  about 50 nations\, and about 45 states have been in this house\, some lit
 erally flying from across the earth for a "Tuesday Night" gathering.... Th
 e Lord has been good! We never know how many will come (sometimes whether 
 affects it\, which drew our smallest gathering of about ten people.... but
  we've also had gatherings of 150 and 200 which tends to be a little crowd
 ed\, but a lot of fun! \nSome arrive at 6pm because they want to bring fo
 od and share with the family before the gathering begins... we've found th
 is to be a very special time and often ministry happens and relationships 
 certainly are strengthened. Feel free to bring food to share and come at 6
 pm. Please DO NOT arrive earlier... as we often have quite a bit to prepar
 e and also utilize the earlier time to meet as facilitators and leaders. T
 hanks for understanding!\nTo stay informed weekly\, about gathering cancel
 lations or location changes\, please subscribe to either "MOWTribe" on Sig
 nal at MOWTribe or on Facebook at MOWTribe (FB)\nWelcome! (We enter throug
 h the garage... you'll see when you get here!)\nDanny Steyne
LAST-MODIFIED:20260422T182206
LOCATION:MOW 80 Shoddy Mill Rd Andover CT
SUMMARY:MOW Tuesday Nights!
URL;VALUE=URI:https://themountain.org/events/mow-tuesday-nights/2026-10-13
ATTACH;FILENAME=TuesdayMountainTours.png;FMTTYPE=image/png:https://dq5pwpg1
 q8ru0.cloudfront.net/2025/02/05/18/57/51/96aa84ee-fe63-4905-9d57-f6e2910f6
 a10/TuesdayMountainTours.png
ATTACH;FILENAME=MOWHOUSECHURCHMASTER2025.png;FMTTYPE=image/png:https://dq5p
 wpg1q8ru0.cloudfront.net/2025/03/24/20/40/39/479681e7-2752-4752-a8f5-ee048
 9be6212/MOWHOUSECHURCHMASTER2025.png
END:VEVENT
END:VCALENDAR
